BEGIN:VCALENDAR
VERSION:2.0
PRODID:-//Oakdale Cowboy Museum - ECPv6.15.20//NONSGML v1.0//EN
CALSCALE:GREGORIAN
METHOD:PUBLISH
X-WR-CALNAME:Oakdale Cowboy Museum
X-ORIGINAL-URL:https://thecowboymuseum.org
X-WR-CALDESC:Events for Oakdale Cowboy Museum
REFRESH-INTERVAL;VALUE=DURATION:PT1H
X-Robots-Tag:noindex
X-PUBLISHED-TTL:PT1H
BEGIN:VTIMEZONE
TZID:UTC
BEGIN:STANDARD
TZOFFSETFROM:+0000
TZOFFSETTO:+0000
TZNAME:UTC
DTSTART:20250101T000000
END:STANDARD
END:VTIMEZONE
BEGIN:VEVENT
DTSTART;TZID=UTC:20260508T173000
DTEND;TZID=UTC:20260508T210000
DTSTAMP:20260421T085314
CREATED:20240502T190032Z
LAST-MODIFIED:20250608T072903Z
UID:762-1778261400-1778274000@thecowboymuseum.org
SUMMARY:Spurs and Roses
DESCRIPTION:May 8\, 2026 @ 5:30 PM\nBack by popular demand\, this is our second mother and son dance! An evening of FUN with mom and son. Dinner\, dancing\, door prizes and more. We look forward to celebrating this special bond with you!  \n			\n				CALL to PURCHASE TICKETS\n			\n			\n				\n				\n				\n				\n			\n				\n				\n			\n				\n				\n				\n				\n				\n				\n				\n				\n				\n				\n				\n				\n				\n				\n				\n				\n				\n				A BIG THANK YOU\nTo Our Sponsors\n			\n			\n				\n				\n				\n				\n			\n				\n				\n				\n				\n				\n				\n				\n				\n				\n				\n				Yosemite Farm Credit \n			\n			\n				\n				\n				\n				\n				\n				\n				\n				\n				\n				Oakdale Saddle Club \n			\n			\n				\n				\n				\n				\n				\n				\n				\n				\n				\n				Invoke Solutions \n			\n			\n				\n				\n				\n				\n			\n				\n				\n			\n				\n				\n				\n				\n				\n				\n				\n				\n				\n				\n				\n				\n				\n				\n				\n				\n				\n				Featuring\nEvent Highlights
URL:https://thecowboymuseum.org/event/spurs-and-roses/
LOCATION:Oakdale Rodeo Grounds\, 1624 East F Street\, Oakdale\, CA\, 95361\, United States
ATTACH;FMTTYPE=image/jpeg:https://thecowboymuseum.org/wp-content/uploads/2024/05/IMG_0523.jpg
ORGANIZER;CN="The Cowboy Museum":MAILTO:admin@thecowboymuseum.org
END:VEVENT
BEGIN:VEVENT
DTSTART;TZID=UTC:20261024T173000
DTEND;TZID=UTC:20261024T220000
DTSTAMP:20260421T085314
CREATED:20230209T085315Z
LAST-MODIFIED:20260419T072103Z
UID:157-1792863000-1792879200@thecowboymuseum.org
SUMMARY:Annual Dinner and Auction 2026
DESCRIPTION:
URL:https://thecowboymuseum.org/event/annual-dinner-and-auction-2026/
LOCATION:Gene Bianchi Community Center\, 110 S 2nd Ave\, Oakdale\, CA\, 95361\, United States
ATTACH;FMTTYPE=image/png:https://thecowboymuseum.org/wp-content/uploads/2023/02/Untitled-design-13.png
ORGANIZER;CN="The Cowboy Museum":MAILTO:admin@thecowboymuseum.org
END:VEVENT
BEGIN:VEVENT
DTSTART;TZID=UTC:20270407T103000
DTEND;TZID=UTC:20270407T130000
DTSTAMP:20260421T085314
CREATED:20230209T074248Z
LAST-MODIFIED:20260419T072648Z
UID:127-1807093800-1807102800@thecowboymuseum.org
SUMMARY:Cowgirl Luncheon
DESCRIPTION:Honoring the leading ladies of the contemporary West\, whose contributions to it’s preservatioin have been great and many . . .  \n			\n			\n				\n				\n				\n				\n				\n				\n				\n				\n				\n				APRIL 7\, 2027 @ 10:30 AM\nThis is the main event: The Cowgirl of the Year Award Ceremony\, in which The Cowboy Museum honors an outstanding Woman of the West for her contributions to Western lifestyle & culture.  These women represent every facet of Ranch & Rodeo\, and have gone above and beyond to preserve those traditions and ways of life for future generations.  \n			\n			\n				\n				\n				\n				\n			\n				\n				\n				\n				\n				\n				\n				\n				\n				\n				\n				TICKETS GO ON SALE\nSaturday\, February 20\, 2027 at 8 AM \n			\n				\n				\n				\n				\n				Due to the high demand for tickets\, the amount of tickets a member can purchase in relation to their membership level is as follows: \n\nFounding & Legacy Members – 1 table of 8 or up to 8 tickets\nCorporate/BUSINESS Members – 1 table of 8 or up to 8 tickets\nFamily Members – Up to 4 tickets\nIndividual Members – up to 2 tickets\n\n			\n			\n				\n				\n				\n				\n			\n				\n				\n			\n				\n				\n				\n				\n				\n				\n				\n				\n				\n				\n				\n				\n				\n				\n				\n				\n				\n				A BIG THANK YOU\nTo Our Sponsors\n			\n			\n				\n				\n				\n				\n			\n				\n				\n				\n				\n				\n				\n				\n				\n				\n				\n				Yosemite Farm CreditOak Valley Community BankAmerican AG CreditOakdale IrrigationDistrict \nCTS/Coretemp Services \nSantos Herford Ranch \n  \n  \n			\n			\n				\n				\n				\n				\n				\n				\n				\n				\n				\n				Oakdale Feed and Seed \nArtificial Turf & Landscape \nEpic Land Surveying\, Inc \nChicken Ranch CasinoRoss F Carroll \n			\n			\n				\n				\n				\n				\n				\n				\n				\n				\n				\n				Violet MondragonMonschein Industries \nModesto Executive Electric \nGuild Mortgage Allison Schwartz \nLisa Vandermeer \n			\n			\n				\n				\n				\n				\n			\n				\n				\n			\n				\n				\n				\n				\n				\n				\n				\n				\n				\n				\n				\n				\n				\n				\n				\n				\n				\n				Featuring\nLuncheon Highlights
URL:https://thecowboymuseum.org/event/cowgirl-luncheon/
LOCATION:Gene Bianchi Community Center\, 110 S 2nd Ave\, Oakdale\, CA\, 95361\, United States
ATTACH;FMTTYPE=image/jpeg:https://thecowboymuseum.org/wp-content/uploads/2023/02/IMG_0520.jpg
ORGANIZER;CN="The Cowboy Museum":MAILTO:admin@thecowboymuseum.org
END:VEVENT
END:VCALENDAR